BEGIN:VCALENDAR
VERSION:2.0
PRODID:-//Fédération Motorisée Valaisanne - ECPv6.15.15//NONSGML v1.0//EN
CALSCALE:GREGORIAN
METHOD:PUBLISH
X-WR-CALNAME:Fédération Motorisée Valaisanne
X-ORIGINAL-URL:https://www.fmvs.ch/?lang=de
X-WR-CALDESC:Veranstaltungen für Fédération Motorisée Valaisanne
REFRESH-INTERVAL;VALUE=DURATION:PT1H
X-Robots-Tag:noindex
X-PUBLISHED-TTL:PT1H
BEGIN:VTIMEZONE
TZID:Europe/Paris
BEGIN:DAYLIGHT
TZOFFSETFROM:+0100
TZOFFSETTO:+0200
TZNAME:CEST
DTSTART:20240331T010000
END:DAYLIGHT
BEGIN:STANDARD
TZOFFSETFROM:+0200
TZOFFSETTO:+0100
TZNAME:CET
DTSTART:20241027T010000
END:STANDARD
BEGIN:DAYLIGHT
TZOFFSETFROM:+0100
TZOFFSETTO:+0200
TZNAME:CEST
DTSTART:20250330T010000
END:DAYLIGHT
BEGIN:STANDARD
TZOFFSETFROM:+0200
TZOFFSETTO:+0100
TZNAME:CET
DTSTART:20251026T010000
END:STANDARD
BEGIN:DAYLIGHT
TZOFFSETFROM:+0100
TZOFFSETTO:+0200
TZNAME:CEST
DTSTART:20260329T010000
END:DAYLIGHT
BEGIN:STANDARD
TZOFFSETFROM:+0200
TZOFFSETTO:+0100
TZNAME:CET
DTSTART:20261025T010000
END:STANDARD
END:VTIMEZONE
BEGIN:VEVENT
DTSTART;TZID=Europe/Paris:20250412T070000
DTEND;TZID=Europe/Paris:20250412T220000
DTSTAMP:20260420T130151
CREATED:20231212T060016Z
LAST-MODIFIED:20250220T175415Z
UID:14467-1744441200-1744495200@www.fmvs.ch
SUMMARY:12.04.2025 - Démo Auto-Moto Orsières 2025
DESCRIPTION:Rejoignez-nous et inscrivez-vous pour participer à la démo Auto-Moto Orsières 2025 ! Tarifs : CHF 90.- / voiture – CHF 70.- / moto \nhttps://www.demo-orsieres.ch/event-details/demo-auto-moto-orsieres-2025
URL:https://www.fmvs.ch/evenement/12-04-2025-demo-auto-moto-orsieres-2025/?lang=de
CATEGORIES:Programme - Tourisme,Programme – FMVS
END:VEVENT
END:VCALENDAR