BEGIN:VCALENDAR
VERSION:2.0
PRODID:-//Fédération Motorisée Valaisanne - ECPv6.15.15//NONSGML v1.0//EN
CALSCALE:GREGORIAN
METHOD:PUBLISH
X-WR-CALNAME:Fédération Motorisée Valaisanne
X-ORIGINAL-URL:https://www.fmvs.ch/?lang=de
X-WR-CALDESC:Veranstaltungen für Fédération Motorisée Valaisanne
REFRESH-INTERVAL;VALUE=DURATION:PT1H
X-Robots-Tag:noindex
X-PUBLISHED-TTL:PT1H
BEGIN:VTIMEZONE
TZID:Europe/Paris
BEGIN:DAYLIGHT
TZOFFSETFROM:+0100
TZOFFSETTO:+0200
TZNAME:CEST
DTSTART:20240331T010000
END:DAYLIGHT
BEGIN:STANDARD
TZOFFSETFROM:+0200
TZOFFSETTO:+0100
TZNAME:CET
DTSTART:20241027T010000
END:STANDARD
BEGIN:DAYLIGHT
TZOFFSETFROM:+0100
TZOFFSETTO:+0200
TZNAME:CEST
DTSTART:20250330T010000
END:DAYLIGHT
BEGIN:STANDARD
TZOFFSETFROM:+0200
TZOFFSETTO:+0100
TZNAME:CET
DTSTART:20251026T010000
END:STANDARD
BEGIN:DAYLIGHT
TZOFFSETFROM:+0100
TZOFFSETTO:+0200
TZNAME:CEST
DTSTART:20260329T010000
END:DAYLIGHT
BEGIN:STANDARD
TZOFFSETFROM:+0200
TZOFFSETTO:+0100
TZNAME:CET
DTSTART:20261025T010000
END:STANDARD
END:VTIMEZONE
BEGIN:VEVENT
DTSTART;VALUE=DATE:20250427
DTEND;VALUE=DATE:20250428
DTSTAMP:20260420T113603
CREATED:20231211T091707Z
LAST-MODIFIED:20250217T191054Z
UID:14409-1745712000-1745798399@www.fmvs.ch
SUMMARY:27.04.2025 - TdRH - Journée de préparation
DESCRIPTION:
URL:https://www.fmvs.ch/evenement/27-04-2025-tdrh-journee-de-preparation/?lang=de
LOCATION:Sembrancher
CATEGORIES:Programme - Escortes,Programme – FMVS
END:VEVENT
BEGIN:VEVENT
DTSTART;VALUE=DATE:20250427
DTEND;VALUE=DATE:20250428
DTSTAMP:20260420T113603
CREATED:20231212T070659Z
LAST-MODIFIED:20231212T070559Z
UID:14435-1745712000-1745798399@www.fmvs.ch
SUMMARY:27.04.2025 - TdRH - Journée de préparation
DESCRIPTION:
URL:https://www.fmvs.ch/evenement/27-04-2025-tdrh-journee-de-preparation-2/?lang=de
LOCATION:Sembrancher
CATEGORIES:Programme - Escortes,Programme – FMVS
END:VEVENT
END:VCALENDAR