BEGIN:VCALENDAR
VERSION:2.0
PRODID:-//Fédération Motorisée Valaisanne - ECPv6.15.15//NONSGML v1.0//EN
CALSCALE:GREGORIAN
METHOD:PUBLISH
X-WR-CALNAME:Fédération Motorisée Valaisanne
X-ORIGINAL-URL:https://www.fmvs.ch/?lang=de
X-WR-CALDESC:Veranstaltungen für Fédération Motorisée Valaisanne
REFRESH-INTERVAL;VALUE=DURATION:PT1H
X-Robots-Tag:noindex
X-PUBLISHED-TTL:PT1H
BEGIN:VTIMEZONE
TZID:Europe/Paris
BEGIN:DAYLIGHT
TZOFFSETFROM:+0100
TZOFFSETTO:+0200
TZNAME:CEST
DTSTART:20240331T010000
END:DAYLIGHT
BEGIN:STANDARD
TZOFFSETFROM:+0200
TZOFFSETTO:+0100
TZNAME:CET
DTSTART:20241027T010000
END:STANDARD
BEGIN:DAYLIGHT
TZOFFSETFROM:+0100
TZOFFSETTO:+0200
TZNAME:CEST
DTSTART:20250330T010000
END:DAYLIGHT
BEGIN:STANDARD
TZOFFSETFROM:+0200
TZOFFSETTO:+0100
TZNAME:CET
DTSTART:20251026T010000
END:STANDARD
BEGIN:DAYLIGHT
TZOFFSETFROM:+0100
TZOFFSETTO:+0200
TZNAME:CEST
DTSTART:20260329T010000
END:DAYLIGHT
BEGIN:STANDARD
TZOFFSETFROM:+0200
TZOFFSETTO:+0100
TZNAME:CET
DTSTART:20261025T010000
END:STANDARD
END:VTIMEZONE
BEGIN:VEVENT
DTSTART;VALUE=DATE:20250614
DTEND;VALUE=DATE:20250615
DTSTAMP:20260420T070256
CREATED:20231212T084541Z
LAST-MODIFIED:20250131T164742Z
UID:12751-1749859200-1749945599@www.fmvs.ch
SUMMARY:14.06.2025 - Rallye Sécurité avec la Police Cantonale Valaisanne
DESCRIPTION:
URL:https://www.fmvs.ch/evenement/14-06-2025-rallye-securite-avec-la-police-cantonale-valaisanne/?lang=de
CATEGORIES:Programme - Tourisme,Programme – CSR,Programme – FMVS
END:VEVENT
BEGIN:VEVENT
DTSTART;VALUE=DATE:20250614
DTEND;VALUE=DATE:20250615
DTSTAMP:20260420T070256
CREATED:20231212T085040Z
LAST-MODIFIED:20250217T205035Z
UID:12750-1749859200-1749945599@www.fmvs.ch
SUMMARY:14.06.2025 - Champ. VS Cross
DESCRIPTION:
URL:https://www.fmvs.ch/evenement/14-06-2025-champ-vs-cross/?lang=de
LOCATION:La Chaux (Cossonay)
CATEGORIES:Programme - Cross,Programme - Sport,Programme – FMVS
END:VEVENT
END:VCALENDAR