BEGIN:VCALENDAR
VERSION:2.0
PRODID:-//Fédération Motorisée Valaisanne - ECPv6.15.15//NONSGML v1.0//EN
CALSCALE:GREGORIAN
METHOD:PUBLISH
X-ORIGINAL-URL:https://www.fmvs.ch/?lang=de
X-WR-CALDESC:Veranstaltungen für Fédération Motorisée Valaisanne
REFRESH-INTERVAL;VALUE=DURATION:PT1H
X-Robots-Tag:noindex
X-PUBLISHED-TTL:PT1H
BEGIN:VTIMEZONE
TZID:Europe/Paris
BEGIN:DAYLIGHT
TZOFFSETFROM:+0100
TZOFFSETTO:+0200
TZNAME:CEST
DTSTART:20240331T010000
END:DAYLIGHT
BEGIN:STANDARD
TZOFFSETFROM:+0200
TZOFFSETTO:+0100
TZNAME:CET
DTSTART:20241027T010000
END:STANDARD
BEGIN:DAYLIGHT
TZOFFSETFROM:+0100
TZOFFSETTO:+0200
TZNAME:CEST
DTSTART:20250330T010000
END:DAYLIGHT
BEGIN:STANDARD
TZOFFSETFROM:+0200
TZOFFSETTO:+0100
TZNAME:CET
DTSTART:20251026T010000
END:STANDARD
BEGIN:DAYLIGHT
TZOFFSETFROM:+0100
TZOFFSETTO:+0200
TZNAME:CEST
DTSTART:20260329T010000
END:DAYLIGHT
BEGIN:STANDARD
TZOFFSETFROM:+0200
TZOFFSETTO:+0100
TZNAME:CET
DTSTART:20261025T010000
END:STANDARD
END:VTIMEZONE
BEGIN:VEVENT
DTSTART;VALUE=DATE:20250705
DTEND;VALUE=DATE:20250706
DTSTAMP:20260420T084529
CREATED:20231212T091014Z
LAST-MODIFIED:20250131T155802Z
UID:12748-1751673600-1751759999@www.fmvs.ch
SUMMARY:05.07.2025 - Champ. VS Cross
DESCRIPTION:
URL:https://www.fmvs.ch/evenement/05-07-2025-champ-vs-cross/?lang=de
LOCATION:Bullet
CATEGORIES:Programme - Cross,Programme - Sport,Programme – FMVS
END:VEVENT
BEGIN:VEVENT
DTSTART;TZID=Europe/Paris:20250705T080000
DTEND;TZID=Europe/Paris:20250706T180000
DTSTAMP:20260420T084529
CREATED:20241228T125607Z
LAST-MODIFIED:20250211T182944Z
UID:14110-1751702400-1751824800@www.fmvs.ch
SUMMARY:05-06.07.2025 - Sortie Surprise
DESCRIPTION:Les informations concernant les inscriptions suivront tout bientôt.
URL:https://www.fmvs.ch/evenement/05-06-07-2025-sortie-surprise/?lang=de
CATEGORIES:Programme - Tourisme,Programme – FMVS
END:VEVENT
END:VCALENDAR