BEGIN:VCALENDAR
VERSION:2.0
PRODID:-//Fédération Motorisée Valaisanne - ECPv6.15.15//NONSGML v1.0//EN
CALSCALE:GREGORIAN
METHOD:PUBLISH
X-WR-CALNAME:Fédération Motorisée Valaisanne
X-ORIGINAL-URL:https://www.fmvs.ch/?lang=de
X-WR-CALDESC:Veranstaltungen für Fédération Motorisée Valaisanne
REFRESH-INTERVAL;VALUE=DURATION:PT1H
X-Robots-Tag:noindex
X-PUBLISHED-TTL:PT1H
BEGIN:VTIMEZONE
TZID:Europe/Paris
BEGIN:DAYLIGHT
TZOFFSETFROM:+0100
TZOFFSETTO:+0200
TZNAME:CEST
DTSTART:20250330T010000
END:DAYLIGHT
BEGIN:STANDARD
TZOFFSETFROM:+0200
TZOFFSETTO:+0100
TZNAME:CET
DTSTART:20251026T010000
END:STANDARD
BEGIN:DAYLIGHT
TZOFFSETFROM:+0100
TZOFFSETTO:+0200
TZNAME:CEST
DTSTART:20260329T010000
END:DAYLIGHT
BEGIN:STANDARD
TZOFFSETFROM:+0200
TZOFFSETTO:+0100
TZNAME:CET
DTSTART:20261025T010000
END:STANDARD
BEGIN:DAYLIGHT
TZOFFSETFROM:+0100
TZOFFSETTO:+0200
TZNAME:CEST
DTSTART:20270328T010000
END:DAYLIGHT
BEGIN:STANDARD
TZOFFSETFROM:+0200
TZOFFSETTO:+0100
TZNAME:CET
DTSTART:20271031T010000
END:STANDARD
END:VTIMEZONE
BEGIN:VEVENT
DTSTART;VALUE=DATE:20260912
DTEND;VALUE=DATE:20260913
DTSTAMP:20260420T034423
CREATED:20251014T071215Z
LAST-MODIFIED:20250217T185727Z
UID:12745-1789171200-1789257599@www.fmvs.ch
SUMMARY:16.08.2025 - Rassemblement - MC Les Faucons
DESCRIPTION:Lieu du rassemblement : patinoire d’Ycor
URL:https://www.fmvs.ch/evenement/16-08-2025-rassemblement-mc-les-faucons/?lang=de
LOCATION:Crans-Montana
CATEGORIES:Programme - Tourisme,Programme – FMVS
END:VEVENT
BEGIN:VEVENT
DTSTART;VALUE=DATE:20260912
DTEND;VALUE=DATE:20260913
DTSTAMP:20260420T034423
CREATED:20251014T071231Z
LAST-MODIFIED:20250217T185445Z
UID:12742-1789171200-1789257599@www.fmvs.ch
SUMMARY:06.09.2025 - Johannis Touring Trophy - MC Chamoson
DESCRIPTION:
URL:https://www.fmvs.ch/evenement/06-09-2025-johannis-touring-trophy-mc-chamoson/?lang=de
LOCATION:St-Pierre-de-Clages
CATEGORIES:Programme - Tourisme,Programme – FMVS
END:VEVENT
END:VCALENDAR