BEGIN:VCALENDAR
VERSION:2.0
PRODID:-//Fédération Motorisée Valaisanne - ECPv6.15.15//NONSGML v1.0//EN
CALSCALE:GREGORIAN
METHOD:PUBLISH
X-ORIGINAL-URL:https://www.fmvs.ch
X-WR-CALDESC:Évènements pour Fédération Motorisée Valaisanne
REFRESH-INTERVAL;VALUE=DURATION:PT1H
X-Robots-Tag:noindex
X-PUBLISHED-TTL:PT1H
BEGIN:VTIMEZONE
TZID:Europe/Paris
BEGIN:DAYLIGHT
TZOFFSETFROM:+0100
TZOFFSETTO:+0200
TZNAME:CEST
DTSTART:20250330T010000
END:DAYLIGHT
BEGIN:STANDARD
TZOFFSETFROM:+0200
TZOFFSETTO:+0100
TZNAME:CET
DTSTART:20251026T010000
END:STANDARD
BEGIN:DAYLIGHT
TZOFFSETFROM:+0100
TZOFFSETTO:+0200
TZNAME:CEST
DTSTART:20260329T010000
END:DAYLIGHT
BEGIN:STANDARD
TZOFFSETFROM:+0200
TZOFFSETTO:+0100
TZNAME:CET
DTSTART:20261025T010000
END:STANDARD
BEGIN:DAYLIGHT
TZOFFSETFROM:+0100
TZOFFSETTO:+0200
TZNAME:CEST
DTSTART:20270328T010000
END:DAYLIGHT
BEGIN:STANDARD
TZOFFSETFROM:+0200
TZOFFSETTO:+0100
TZNAME:CET
DTSTART:20271031T010000
END:STANDARD
END:VTIMEZONE
BEGIN:VEVENT
DTSTART;VALUE=DATE:20261018
DTEND;VALUE=DATE:20261019
DTSTAMP:20260420T045401
CREATED:20251014T081707Z
LAST-MODIFIED:20251230T161217Z
UID:7604-1792281600-1792367999@www.fmvs.ch
SUMMARY:18.10.2026 - Champ. VS Trial - Niedergesteln
DESCRIPTION:
URL:https://www.fmvs.ch/evenement/11-10-2025-champ-vs-trial/
LOCATION:Niedergesteln
CATEGORIES:Programme - FMVS,Programme - Sport,Programme - Trial
END:VEVENT
BEGIN:VEVENT
DTSTART;TZID=Europe/Paris:20261018T100000
DTEND;TZID=Europe/Paris:20261018T160000
DTSTAMP:20260420T045401
CREATED:20251014T081812Z
LAST-MODIFIED:20251230T160853Z
UID:7834-1792317600-1792339200@www.fmvs.ch
SUMMARY:18.10.2026 - Retour des Carnets Tourisme à Niedergesteln
DESCRIPTION:Ramenez vos carnets de tourisme lors de la manche de Trial à Niedergesteln
URL:https://www.fmvs.ch/evenement/26-10-2025-retour-des-carnets-tourisme-a-fully/
LOCATION:Fully
CATEGORIES:Programme - FMVS,Programme - Tourisme
END:VEVENT
END:VCALENDAR