BEGIN:VCALENDAR
VERSION:2.0
PRODID:-//Fédération Motorisée Valaisanne - ECPv6.15.15//NONSGML v1.0//EN
CALSCALE:GREGORIAN
METHOD:PUBLISH
X-ORIGINAL-URL:https://www.fmvs.ch/?lang=de
X-WR-CALDESC:Veranstaltungen für Fédération Motorisée Valaisanne
REFRESH-INTERVAL;VALUE=DURATION:PT1H
X-Robots-Tag:noindex
X-PUBLISHED-TTL:PT1H
BEGIN:VTIMEZONE
TZID:Europe/Paris
BEGIN:DAYLIGHT
TZOFFSETFROM:+0100
TZOFFSETTO:+0200
TZNAME:CEST
DTSTART:20240331T010000
END:DAYLIGHT
BEGIN:STANDARD
TZOFFSETFROM:+0200
TZOFFSETTO:+0100
TZNAME:CET
DTSTART:20241027T010000
END:STANDARD
BEGIN:DAYLIGHT
TZOFFSETFROM:+0100
TZOFFSETTO:+0200
TZNAME:CEST
DTSTART:20250330T010000
END:DAYLIGHT
BEGIN:STANDARD
TZOFFSETFROM:+0200
TZOFFSETTO:+0100
TZNAME:CET
DTSTART:20251026T010000
END:STANDARD
BEGIN:DAYLIGHT
TZOFFSETFROM:+0100
TZOFFSETTO:+0200
TZNAME:CEST
DTSTART:20260329T010000
END:DAYLIGHT
BEGIN:STANDARD
TZOFFSETFROM:+0200
TZOFFSETTO:+0100
TZNAME:CET
DTSTART:20261025T010000
END:STANDARD
END:VTIMEZONE
BEGIN:VEVENT
DTSTART;VALUE=DATE:20250322
DTEND;VALUE=DATE:20250323
DTSTAMP:20260420T112641
CREATED:20241228T123111Z
LAST-MODIFIED:20250212T090039Z
UID:7902-1742601600-1742687999@www.fmvs.ch
SUMMARY:22.03.2025 - Champ. VS Cross
DESCRIPTION:
URL:https://www.fmvs.ch/evenement/22-03-2025-champ-vs-cross/?lang=de
LOCATION:Belmont-sur-Yverdon
CATEGORIES:Programme - Cross,Programme - Sport,Programme – FMVS
END:VEVENT
BEGIN:VEVENT
DTSTART;VALUE=DATE:20250322
DTEND;VALUE=DATE:20250323
DTSTAMP:20260420T112641
CREATED:20250131T154853Z
LAST-MODIFIED:20250131T164313Z
UID:3907-1742601600-1742687999@www.fmvs.ch
SUMMARY:22.03.2025 - Champ. Valaisan Cross - Belmont sur Yverdon
DESCRIPTION:
URL:https://www.fmvs.ch/evenement/champ-valaisan-cross-belmont-sur-yverdon/?lang=de
LOCATION:Belmont-sur-Yverdon
CATEGORIES:Programme - Cross,Programme - Sport,Programme – FMVS
END:VEVENT
BEGIN:VEVENT
DTSTART;TZID=Europe/Paris:20250322T080000
DTEND;TZID=Europe/Paris:20250322T170000
DTSTAMP:20260420T112641
CREATED:20231208T094407Z
LAST-MODIFIED:20231208T094407Z
UID:14477-1742630400-1742662800@www.fmvs.ch
SUMMARY:22.03.2025 - Champ. VS Cross
DESCRIPTION:
URL:https://www.fmvs.ch/evenement/22-03-2025-champ-vs-cross-2/?lang=de
LOCATION:Belmont-sur-Yverdon
CATEGORIES:Programme - Cross,Programme - Sport,Programme – FMVS
END:VEVENT
END:VCALENDAR