BEGIN:VCALENDAR
VERSION:2.0
PRODID:-//Fédération Motorisée Valaisanne - ECPv6.15.15//NONSGML v1.0//EN
CALSCALE:GREGORIAN
METHOD:PUBLISH
X-WR-CALNAME:Fédération Motorisée Valaisanne
X-ORIGINAL-URL:https://www.fmvs.ch/?lang=de
X-WR-CALDESC:Veranstaltungen für Fédération Motorisée Valaisanne
REFRESH-INTERVAL;VALUE=DURATION:PT1H
X-Robots-Tag:noindex
X-PUBLISHED-TTL:PT1H
BEGIN:VTIMEZONE
TZID:Europe/Paris
BEGIN:DAYLIGHT
TZOFFSETFROM:+0100
TZOFFSETTO:+0200
TZNAME:CEST
DTSTART:20240331T010000
END:DAYLIGHT
BEGIN:STANDARD
TZOFFSETFROM:+0200
TZOFFSETTO:+0100
TZNAME:CET
DTSTART:20241027T010000
END:STANDARD
BEGIN:DAYLIGHT
TZOFFSETFROM:+0100
TZOFFSETTO:+0200
TZNAME:CEST
DTSTART:20250330T010000
END:DAYLIGHT
BEGIN:STANDARD
TZOFFSETFROM:+0200
TZOFFSETTO:+0100
TZNAME:CET
DTSTART:20251026T010000
END:STANDARD
BEGIN:DAYLIGHT
TZOFFSETFROM:+0100
TZOFFSETTO:+0200
TZNAME:CEST
DTSTART:20260329T010000
END:DAYLIGHT
BEGIN:STANDARD
TZOFFSETFROM:+0200
TZOFFSETTO:+0100
TZNAME:CET
DTSTART:20261025T010000
END:STANDARD
END:VTIMEZONE
BEGIN:VEVENT
DTSTART;TZID=Europe/Paris:20250429T080000
DTEND;TZID=Europe/Paris:20250504T170000
DTSTAMP:20260420T084307
CREATED:20231211T091920Z
LAST-MODIFIED:20250217T204549Z
UID:14428-1745913600-1746378000@www.fmvs.ch
SUMMARY:29.04.-04.05.2025 Tour de Romandie Hommes
DESCRIPTION:Cliquez sur l’évènement pour vous inscrire \n– https://form.jotform.com/242564188044358
URL:https://www.fmvs.ch/evenement/29-04-04-05-2025-tour-de-romandie-hommes-2/?lang=de
CATEGORIES:Programme - Escortes,Programme – FMVS
END:VEVENT
BEGIN:VEVENT
DTSTART;TZID=Europe/Paris:20250504T113000
DTEND;TZID=Europe/Paris:20250504T133000
DTSTAMP:20260420T084307
CREATED:20231212T072228Z
LAST-MODIFIED:20231211T091228Z
UID:13470-1746358200-1746365400@www.fmvs.ch
SUMMARY:04.05.2025 - Thonon Cycling Race
DESCRIPTION:
URL:https://www.fmvs.ch/evenement/04-05-2025-thonon-cycling-race/?lang=de
LOCATION:Thonon
CATEGORIES:Programme - Tourisme,Programme – FMVS
END:VEVENT
BEGIN:VEVENT
DTSTART;TZID=Europe/Paris:20250510T100000
DTEND;TZID=Europe/Paris:20250511T180000
DTSTAMP:20260420T084307
CREATED:20231212T073543Z
LAST-MODIFIED:20250212T101942Z
UID:13468-1746871200-1746986400@www.fmvs.ch
SUMMARY:10-11.05.2025 - Les Motos dans la Prairie
DESCRIPTION:Essais\, ambiance et convivialité à la Praire à Sembrancher
URL:https://www.fmvs.ch/evenement/10-et-11-05-2025-les-motos-dans-la-prairie/?lang=de
LOCATION:Sembrancher
CATEGORIES:Programme - Tourisme,Programme – FMVS
END:VEVENT
BEGIN:VEVENT
DTSTART;VALUE=DATE:20250517
DTEND;VALUE=DATE:20250518
DTSTAMP:20260420T084307
CREATED:20231212T073057Z
LAST-MODIFIED:20250217T185921Z
UID:13469-1747440000-1747526399@www.fmvs.ch
SUMMARY:17.05.2025 - Champ. VS Cross
DESCRIPTION:
URL:https://www.fmvs.ch/evenement/17-05-2025-champ-vs-cross/?lang=de
LOCATION:Epautheyres
CATEGORIES:Programme - Cross,Programme - Sport,Programme – FMVS
END:VEVENT
BEGIN:VEVENT
DTSTART;TZID=Europe/Paris:20250518T090000
DTEND;TZID=Europe/Paris:20250518T190000
DTSTAMP:20260420T084307
CREATED:20231212T080035Z
LAST-MODIFIED:20250427T190145Z
UID:13467-1747558800-1747594800@www.fmvs.ch
SUMMARY:18.05.2025 - Randonnée Valaisanne des Motards
DESCRIPTION:Rendez-vous dès 9h \nCafé et croissant offerts \nLieu : Couvert du Beulet – Rue du Stand 25 – 1958 St-Léonard \nDépart de la balade accompagnée : 10h \nArrivée et repas au Couvert du Beulet – Prix du repas CHF 30.-/personne à s’inscrire et payer le matin au café \nN’oubliez pas de venir avec le plein de la moto !
URL:https://www.fmvs.ch/evenement/18-05-2025-randonnee-valaisanne-des-motards/?lang=de
CATEGORIES:Programme - Tourisme,Programme – FMVS
END:VEVENT
BEGIN:VEVENT
DTSTART;TZID=Europe/Paris:20250529T080000
DTEND;TZID=Europe/Paris:20250529T170000
DTSTAMP:20260420T084307
CREATED:20231212T082008Z
LAST-MODIFIED:20231212T082008Z
UID:14569-1748505600-1748538000@www.fmvs.ch
SUMMARY:29.05.2025 - Roulage Circuit Cremone IT
DESCRIPTION:Informations et inscriptions suivront
URL:https://www.fmvs.ch/evenement/29-05-2025-roulage-circuit-cremone-it/?lang=de
LOCATION:Cremone Italie
CATEGORIES:Programme - Circuits,Programme - Sport,Programme – FMVS
END:VEVENT
END:VCALENDAR