BEGIN:VCALENDAR
VERSION:2.0
PRODID:-//Fédération Motorisée Valaisanne - ECPv6.15.15//NONSGML v1.0//EN
CALSCALE:GREGORIAN
METHOD:PUBLISH
X-WR-CALNAME:Fédération Motorisée Valaisanne
X-ORIGINAL-URL:https://www.fmvs.ch/?lang=de
X-WR-CALDESC:Veranstaltungen für Fédération Motorisée Valaisanne
REFRESH-INTERVAL;VALUE=DURATION:PT1H
X-Robots-Tag:noindex
X-PUBLISHED-TTL:PT1H
BEGIN:VTIMEZONE
TZID:Europe/Paris
BEGIN:DAYLIGHT
TZOFFSETFROM:+0100
TZOFFSETTO:+0200
TZNAME:CEST
DTSTART:20250330T010000
END:DAYLIGHT
BEGIN:STANDARD
TZOFFSETFROM:+0200
TZOFFSETTO:+0100
TZNAME:CET
DTSTART:20251026T010000
END:STANDARD
BEGIN:DAYLIGHT
TZOFFSETFROM:+0100
TZOFFSETTO:+0200
TZNAME:CEST
DTSTART:20260329T010000
END:DAYLIGHT
BEGIN:STANDARD
TZOFFSETFROM:+0200
TZOFFSETTO:+0100
TZNAME:CET
DTSTART:20261025T010000
END:STANDARD
BEGIN:DAYLIGHT
TZOFFSETFROM:+0100
TZOFFSETTO:+0200
TZNAME:CEST
DTSTART:20270328T010000
END:DAYLIGHT
BEGIN:STANDARD
TZOFFSETFROM:+0200
TZOFFSETTO:+0100
TZNAME:CET
DTSTART:20271031T010000
END:STANDARD
END:VTIMEZONE
BEGIN:VEVENT
DTSTART;VALUE=DATE:20261107
DTEND;VALUE=DATE:20261108
DTSTAMP:20260420T014016
CREATED:20251014T090717Z
LAST-MODIFIED:20250206T171254Z
UID:7806-1794009600-1794095999@www.fmvs.ch
SUMMARY:08.11.2025 - Fête des Champions Sport et Tourisme
DESCRIPTION:Organisation par le TC Illgraben. \nChaque année nous fêtons la fin de la saison en honorant nos sportifs et rouleurs des carnets tourisme… \nVenez fêter avec nous et profiter d’un bon souper !
URL:https://www.fmvs.ch/evenement/08-11-2025-fete-des-champions-sport-et-tourisme/?lang=de
CATEGORIES:Programme - Sport,Programme - Tourisme,Programme – FMVS
END:VEVENT
END:VCALENDAR