BEGIN:VCALENDAR
VERSION:2.0
PRODID:-//Fédération Motorisée Valaisanne - ECPv6.15.15//NONSGML v1.0//EN
CALSCALE:GREGORIAN
METHOD:PUBLISH
X-WR-CALNAME:Fédération Motorisée Valaisanne
X-ORIGINAL-URL:https://www.fmvs.ch
X-WR-CALDESC:Évènements pour Fédération Motorisée Valaisanne
REFRESH-INTERVAL;VALUE=DURATION:PT1H
X-Robots-Tag:noindex
X-PUBLISHED-TTL:PT1H
BEGIN:VTIMEZONE
TZID:Europe/Paris
BEGIN:DAYLIGHT
TZOFFSETFROM:+0100
TZOFFSETTO:+0200
TZNAME:CEST
DTSTART:20250330T010000
END:DAYLIGHT
BEGIN:STANDARD
TZOFFSETFROM:+0200
TZOFFSETTO:+0100
TZNAME:CET
DTSTART:20251026T010000
END:STANDARD
BEGIN:DAYLIGHT
TZOFFSETFROM:+0100
TZOFFSETTO:+0200
TZNAME:CEST
DTSTART:20260329T010000
END:DAYLIGHT
BEGIN:STANDARD
TZOFFSETFROM:+0200
TZOFFSETTO:+0100
TZNAME:CET
DTSTART:20261025T010000
END:STANDARD
BEGIN:DAYLIGHT
TZOFFSETFROM:+0100
TZOFFSETTO:+0200
TZNAME:CEST
DTSTART:20270328T010000
END:DAYLIGHT
BEGIN:STANDARD
TZOFFSETFROM:+0200
TZOFFSETTO:+0100
TZNAME:CET
DTSTART:20271031T010000
END:STANDARD
END:VTIMEZONE
BEGIN:VEVENT
DTSTART;VALUE=DATE:20260705
DTEND;VALUE=DATE:20260706
DTSTAMP:20260419T172036
CREATED:20251014T050510Z
LAST-MODIFIED:20260302T212022Z
UID:4272-1783209600-1783295999@www.fmvs.ch
SUMMARY:05.07.2026 - Portes du Soleil (anciennement Châtel Chablais Léman Race)
DESCRIPTION:Voici le formulaire d’inscription : Inscription Portes du Soleil
URL:https://www.fmvs.ch/evenement/21-07-2024-chatel-chablais-leman-race/
LOCATION:Châtel (F)
CATEGORIES:Programme - Escortes,Programme - FMVS
END:VEVENT
BEGIN:VEVENT
DTSTART;TZID=Europe/Paris:20260705T133000
DTEND;TZID=Europe/Paris:20260705T170000
DTSTAMP:20260419T172036
CREATED:20251014T050545Z
LAST-MODIFIED:20260318T214825Z
UID:54124-1783258200-1783270800@www.fmvs.ch
SUMMARY:05.07.2026 - Perfectionnement et coaching avec la CSR
DESCRIPTION:Nos coaches de la CSR seront présents sur le parcours d’examen du MyExpo à Martigny \nAprès les conseils du parcours\, un roulage sera proposé pour les intéressés
URL:https://www.fmvs.ch/evenement/05-07-2026-perfectionnement-et-coaching-avec-la-csr/
LOCATION:MyExpo Martigny
CATEGORIES:Programme - CSR,Programme - FMVS
END:VEVENT
BEGIN:VEVENT
DTSTART;VALUE=DATE:20260711
DTEND;VALUE=DATE:20260713
DTSTAMP:20260419T172036
CREATED:20251014T050015Z
LAST-MODIFIED:20260412T200707Z
UID:14441-1783728000-1783900799@www.fmvs.ch
SUMMARY:11-12.07.2026 - Sortie Surprise
DESCRIPTION:Il reste quelques places disponibles\, le délai d’inscription est au 25 avril 2026. \nPour de plus amples renseignements et l’inscriptions veuillez vous adresser au secretariat@fmvs.ch \n  \n 
URL:https://www.fmvs.ch/evenement/05-07-06-07-2025-sortie-surprise/
CATEGORIES:Programme - FMVS,Programme - Tourisme
END:VEVENT
BEGIN:VEVENT
DTSTART;VALUE=DATE:20260726
DTEND;VALUE=DATE:20260727
DTSTAMP:20260419T172036
CREATED:20251014T052614Z
LAST-MODIFIED:20260302T212139Z
UID:4270-1785024000-1785110399@www.fmvs.ch
SUMMARY:26.07.2026 - Martigny-Mauvoisin
DESCRIPTION:Voici le formulaire d’inscription : Inscription Martigny-Mauvoisin
URL:https://www.fmvs.ch/evenement/14-07-2024-martigny-mauvoisin/
LOCATION:Martigny
CATEGORIES:Programme - Escortes,Programme - FMVS
END:VEVENT
END:VCALENDAR