BEGIN:VCALENDAR
VERSION:2.0
PRODID:-//Fédération Motorisée Valaisanne - ECPv6.15.15//NONSGML v1.0//EN
CALSCALE:GREGORIAN
METHOD:PUBLISH
X-WR-CALNAME:Fédération Motorisée Valaisanne
X-ORIGINAL-URL:https://www.fmvs.ch
X-WR-CALDESC:Évènements pour Fédération Motorisée Valaisanne
REFRESH-INTERVAL;VALUE=DURATION:PT1H
X-Robots-Tag:noindex
X-PUBLISHED-TTL:PT1H
BEGIN:VTIMEZONE
TZID:Europe/Paris
BEGIN:DAYLIGHT
TZOFFSETFROM:+0100
TZOFFSETTO:+0200
TZNAME:CEST
DTSTART:20250330T010000
END:DAYLIGHT
BEGIN:STANDARD
TZOFFSETFROM:+0200
TZOFFSETTO:+0100
TZNAME:CET
DTSTART:20251026T010000
END:STANDARD
BEGIN:DAYLIGHT
TZOFFSETFROM:+0100
TZOFFSETTO:+0200
TZNAME:CEST
DTSTART:20260329T010000
END:DAYLIGHT
BEGIN:STANDARD
TZOFFSETFROM:+0200
TZOFFSETTO:+0100
TZNAME:CET
DTSTART:20261025T010000
END:STANDARD
BEGIN:DAYLIGHT
TZOFFSETFROM:+0100
TZOFFSETTO:+0200
TZNAME:CEST
DTSTART:20270328T010000
END:DAYLIGHT
BEGIN:STANDARD
TZOFFSETFROM:+0200
TZOFFSETTO:+0100
TZNAME:CET
DTSTART:20271031T010000
END:STANDARD
END:VTIMEZONE
BEGIN:VEVENT
DTSTART;TZID=Europe/Paris:20260801T080000
DTEND;TZID=Europe/Paris:20260801T170000
DTSTAMP:20260420T025444
CREATED:20251014T060512Z
LAST-MODIFIED:20260302T211831Z
UID:50399-1785571200-1785603600@www.fmvs.ch
SUMMARY:01.08.2026 - Cyclosportive du Valais
DESCRIPTION:Voici le formulaire d’inscription : Inscription Cyclosportive du Valais
URL:https://www.fmvs.ch/evenement/01-08-2026-course-de-sion/
CATEGORIES:Programme - Escortes,Programme - FMVS
END:VEVENT
BEGIN:VEVENT
DTSTART;TZID=Europe/Paris:20260802T133000
DTEND;TZID=Europe/Paris:20260802T170000
DTSTAMP:20260420T025444
CREATED:20251014T060222Z
LAST-MODIFIED:20260318T214749Z
UID:54126-1785677400-1785690000@www.fmvs.ch
SUMMARY:02.08.2026 - Perfectionnement et coaching avec la CSR
DESCRIPTION:Nos coaches de la CSR seront présents sur le parcours d’examen du MyExpo à Martigny \nAprès les conseils du parcours\, un roulage sera proposé pour les intéressés
URL:https://www.fmvs.ch/evenement/02-08-2026-perfectionnement-et-coaching-avec-la-csr/
LOCATION:MyExpo Martigny
CATEGORIES:Programme - CSR,Programme - FMVS
END:VEVENT
BEGIN:VEVENT
DTSTART;TZID=Europe/Paris:20260821T190000
DTEND;TZID=Europe/Paris:20260821T233000
DTSTAMP:20260420T025444
CREATED:20251014T062150Z
LAST-MODIFIED:20260202T213643Z
UID:53847-1787338800-1787355000@www.fmvs.ch
SUMMARY:21.08.2026 - 50ème Anniversaire MC La Lienne - Souper de gala
DESCRIPTION:Souper de gala sur inscription… \nLes infos suivront.
URL:https://www.fmvs.ch/evenement/21-08-2026-50eme-anniversaire-mc-la-lienne-souper-de-gala/
LOCATION:St-Léonard
CATEGORIES:Programme - FMVS,Programme - Tourisme
END:VEVENT
BEGIN:VEVENT
DTSTART;TZID=Europe/Paris:20260822T090000
DTEND;TZID=Europe/Paris:20260823T030000
DTSTAMP:20260420T025444
CREATED:20251014T062240Z
LAST-MODIFIED:20260302T192239Z
UID:53849-1787389200-1787454000@www.fmvs.ch
SUMMARY:22.08.2026 - 50ème Anniversaire MC La Lienne - Journée fête
DESCRIPTION:Démonstration Trial – Stunt – Essais motos avec une dizaine de concessionaires – Animations pour enfants – A manger et à boire – Soirée avec musique \n \n  \n  \n 
URL:https://www.fmvs.ch/evenement/22-08-2026-50eme-anniversaire-mc-la-lienne-journee-fete/
LOCATION:St-Léonard
CATEGORIES:Programme - FMVS,Programme - Tourisme
END:VEVENT
BEGIN:VEVENT
DTSTART;TZID=Europe/Paris:20260822T100000
DTEND;TZID=Europe/Paris:20260822T160000
DTSTAMP:20260420T025444
CREATED:20251014T062259Z
LAST-MODIFIED:20260311T205825Z
UID:14624-1787392800-1787414400@www.fmvs.ch
SUMMARY:22.08.2026 - Rencontre Swiss Moto/Timoto/FMVs
DESCRIPTION:La rencontre entre les amis de la moto de Swiss Moto\, de Timoto (Tessinois) et de la FMVs (Valaisans) se fait dans le sympathique Grotto Val-d’Ambra à Personico ! \nLe Grotto à Personico par Nadine Ambord est également un sponsor de la FMVs ! Un grand MERCI
URL:https://www.fmvs.ch/evenement/13-09-2025-rencontre-swissmoto-timoto-fmvs/
CATEGORIES:Programme - FMVS,Programme - Tourisme
END:VEVENT
BEGIN:VEVENT
DTSTART;TZID=Europe/Paris:20260829T080000
DTEND;TZID=Europe/Paris:20260829T233000
DTSTAMP:20260420T025444
CREATED:20251014T062917Z
LAST-MODIFIED:20260305T183244Z
UID:54030-1787990400-1788046200@www.fmvs.ch
SUMMARY:29.08.2026 - Jubilé 100 ans MC Simplon
DESCRIPTION:Informations suivront….
URL:https://www.fmvs.ch/evenement/29-08-2026-jubile-100-ans-mc-simplon/
CATEGORIES:Programme - FMVS,Programme - Tourisme
END:VEVENT
BEGIN:VEVENT
DTSTART;TZID=Europe/Paris:20260829T110000
DTEND;TZID=Europe/Paris:20260829T160000
DTSTAMP:20260420T025444
CREATED:20251014T062905Z
LAST-MODIFIED:20260311T205344Z
UID:14621-1788001200-1788019200@www.fmvs.ch
SUMMARY:29.08.2026 - Rencontre Swiss Moto/FMVs
DESCRIPTION:Monique et Jean-Bernard EGGER vous accueillent au Gasthof Rossberg à Oberwil im Simmental. \nPour les détenteurs du Carnet Tourisme Valaisan il aura le timbrage.
URL:https://www.fmvs.ch/evenement/30-08-2025-rencontre-swissmoto-fmvs/
CATEGORIES:Programme - FMVS,Programme - Tourisme
END:VEVENT
END:VCALENDAR