BEGIN:VCALENDAR
VERSION:2.0
PRODID:-//Fédération Motorisée Valaisanne - ECPv6.15.15//NONSGML v1.0//EN
CALSCALE:GREGORIAN
METHOD:PUBLISH
X-WR-CALNAME:Fédération Motorisée Valaisanne
X-ORIGINAL-URL:https://www.fmvs.ch
X-WR-CALDESC:Évènements pour Fédération Motorisée Valaisanne
REFRESH-INTERVAL;VALUE=DURATION:PT1H
X-Robots-Tag:noindex
X-PUBLISHED-TTL:PT1H
BEGIN:VTIMEZONE
TZID:Europe/Paris
BEGIN:DAYLIGHT
TZOFFSETFROM:+0100
TZOFFSETTO:+0200
TZNAME:CEST
DTSTART:20250330T010000
END:DAYLIGHT
BEGIN:STANDARD
TZOFFSETFROM:+0200
TZOFFSETTO:+0100
TZNAME:CET
DTSTART:20251026T010000
END:STANDARD
BEGIN:DAYLIGHT
TZOFFSETFROM:+0100
TZOFFSETTO:+0200
TZNAME:CEST
DTSTART:20260329T010000
END:DAYLIGHT
BEGIN:STANDARD
TZOFFSETFROM:+0200
TZOFFSETTO:+0100
TZNAME:CET
DTSTART:20261025T010000
END:STANDARD
BEGIN:DAYLIGHT
TZOFFSETFROM:+0100
TZOFFSETTO:+0200
TZNAME:CEST
DTSTART:20270328T010000
END:DAYLIGHT
BEGIN:STANDARD
TZOFFSETFROM:+0200
TZOFFSETTO:+0100
TZNAME:CET
DTSTART:20271031T010000
END:STANDARD
END:VTIMEZONE
BEGIN:VEVENT
DTSTART;TZID=Europe/Paris:20260906T133000
DTEND;TZID=Europe/Paris:20260906T170000
DTSTAMP:20260420T011954
CREATED:20251014T070628Z
LAST-MODIFIED:20260318T214714Z
UID:54129-1788701400-1788714000@www.fmvs.ch
SUMMARY:06.09.2026 - Perfectionnement et coaching avec la CSR
DESCRIPTION:Nos coaches de la CSR seront présents sur le parcours d’examen du MyExpo à Martigny \nAprès les conseils du parcours\, un roulage sera proposé pour les intéressés
URL:https://www.fmvs.ch/evenement/06-09-2026-perfectionnement-et-coaching-avec-la-csr/
LOCATION:MyExpo Martigny
CATEGORIES:Programme - CSR,Programme - FMVS
END:VEVENT
BEGIN:VEVENT
DTSTART;VALUE=DATE:20260912
DTEND;VALUE=DATE:20260913
DTSTAMP:20260420T011954
CREATED:20251014T071231Z
LAST-MODIFIED:20260218T215057Z
UID:7565-1789171200-1789257599@www.fmvs.ch
SUMMARY:12.09.2026 - Johannis Touring Trophy - MC Chamoson
DESCRIPTION:Nous avons le plaisir de vous annoncer la tenues du Johannis Touring Trophy\, 3ème édition\, qui aura lieu le samedi 12 septembre2026. \n🏍Ouvert à tous types de motos homologuées \n👉Inscription obligatoire\, soit:  \n\nPar e-mail à l’adresse suivante : motoclubchamoson@gmail.com\nOu directement sur place le jour de l’événement\n\n 
URL:https://www.fmvs.ch/evenement/06-09-2025-johannis-touring-trophy-mc-chamoson/
LOCATION:St-Pierre-de-Clages
CATEGORIES:Programme - FMVS,Programme - Tourisme
END:VEVENT
BEGIN:VEVENT
DTSTART;VALUE=DATE:20260913
DTEND;VALUE=DATE:20260914
DTSTAMP:20260420T011954
CREATED:20251014T071350Z
LAST-MODIFIED:20251230T161030Z
UID:7607-1789257600-1789343999@www.fmvs.ch
SUMMARY:13.09.2026 - Champ. VS Trial - Fully
DESCRIPTION:
URL:https://www.fmvs.ch/evenement/26-10-2025-champ-vs-trial/
LOCATION:Fully
CATEGORIES:Programme - FMVS,Programme - Sport,Programme - Trial
END:VEVENT
BEGIN:VEVENT
DTSTART;VALUE=DATE:20260926
DTEND;VALUE=DATE:20260927
DTSTAMP:20260420T011954
CREATED:20251014T072623Z
LAST-MODIFIED:20260301T165141Z
UID:7568-1790380800-1790467199@www.fmvs.ch
SUMMARY:26.09.2026 - Enig'Moto et Enigm'Auto - AMC La Poya
DESCRIPTION:SAMEDI    26.09.2026\n\n\n \npoyaenigmoto.wixsite.com/enigmoto
URL:https://www.fmvs.ch/evenement/20-09-2025-enigmoto-et-enigmauto-amc-la-poya/
CATEGORIES:Programme - FMVS,Programme - Tourisme
END:VEVENT
END:VCALENDAR